BEGIN:VCALENDAR
VERSION:2.0
PRODID:-//RiverCity Christian Church - ECPv4.6.11.1//NONSGML v1.0//EN
CALSCALE:GREGORIAN
METHOD:PUBLISH
X-WR-CALNAME:RiverCity Christian Church
X-ORIGINAL-URL:http://www.rivercitycc.com.au
X-WR-CALDESC:Events for RiverCity Christian Church
BEGIN:VEVENT
DTSTART;TZID=UTC+0:20180130T100000
DTEND;TZID=UTC+0:20180130T120000
DTSTAMP:20180226T075309
CREATED:20171107T202457Z
LAST-MODIFIED:20171107T202457Z
UID:7738-1517306400-1517313600@www.rivercitycc.com.au
SUMMARY:Cafe Church
DESCRIPTION:Come and celebrate our God mid week in this casual setting of Church in our Cafe.\n10am Tuesdays \n
URL:http://www.rivercitycc.com.au/event-test/cafe-church/2018-01-30/
LOCATION:5 Lefroy St\, North Hobart\, Hobart\, Tasmania\, 7001\, Australia
GEO:-42.8721807;147.3171049
X-APPLE-STRUCTURED-LOCATION;VALUE=URI;X-ADDRESS=5 Lefroy St North Hobart Hobart Tasmania 7001 Australia;X-APPLE-RADIUS=500;X-TITLE=5 Lefroy St\, North Hobart:geo:147.3171049,-42.8721807
END:VEVENT
BEGIN:VEVENT
DTSTART;TZID=UTC+0:20180206T100000
DTEND;TZID=UTC+0:20180206T120000
DTSTAMP:20180226T075309
CREATED:20171107T202457Z
LAST-MODIFIED:20171107T202457Z
UID:7739-1517911200-1517918400@www.rivercitycc.com.au
SUMMARY:Cafe Church
DESCRIPTION:Come and celebrate our God mid week in this casual setting of Church in our Cafe.\n10am Tuesdays \n
URL:http://www.rivercitycc.com.au/event-test/cafe-church/2018-02-06/
LOCATION:5 Lefroy St\, North Hobart\, Hobart\, Tasmania\, 7001\, Australia
GEO:-42.8721807;147.3171049
X-APPLE-STRUCTURED-LOCATION;VALUE=URI;X-ADDRESS=5 Lefroy St North Hobart Hobart Tasmania 7001 Australia;X-APPLE-RADIUS=500;X-TITLE=5 Lefroy St\, North Hobart:geo:147.3171049,-42.8721807
END:VEVENT
BEGIN:VEVENT
DTSTART;TZID=UTC+0:20180213T100000
DTEND;TZID=UTC+0:20180213T120000
DTSTAMP:20180226T075309
CREATED:20171107T202457Z
LAST-MODIFIED:20171107T202457Z
UID:7740-1518516000-1518523200@www.rivercitycc.com.au
SUMMARY:Cafe Church
DESCRIPTION:Come and celebrate our God mid week in this casual setting of Church in our Cafe.\n10am Tuesdays \n
URL:http://www.rivercitycc.com.au/event-test/cafe-church/2018-02-13/
LOCATION:5 Lefroy St\, North Hobart\, Hobart\, Tasmania\, 7001\, Australia
GEO:-42.8721807;147.3171049
X-APPLE-STRUCTURED-LOCATION;VALUE=URI;X-ADDRESS=5 Lefroy St North Hobart Hobart Tasmania 7001 Australia;X-APPLE-RADIUS=500;X-TITLE=5 Lefroy St\, North Hobart:geo:147.3171049,-42.8721807
END:VEVENT
BEGIN:VEVENT
DTSTART;TZID=UTC+0:20180220T100000
DTEND;TZID=UTC+0:20180220T120000
DTSTAMP:20180226T075309
CREATED:20171107T202457Z
LAST-MODIFIED:20171107T202457Z
UID:7741-1519120800-1519128000@www.rivercitycc.com.au
SUMMARY:Cafe Church
DESCRIPTION:Come and celebrate our God mid week in this casual setting of Church in our Cafe.\n10am Tuesdays \n
URL:http://www.rivercitycc.com.au/event-test/cafe-church/2018-02-20/
LOCATION:5 Lefroy St\, North Hobart\, Hobart\, Tasmania\, 7001\, Australia
GEO:-42.8721807;147.3171049
X-APPLE-STRUCTURED-LOCATION;VALUE=URI;X-ADDRESS=5 Lefroy St North Hobart Hobart Tasmania 7001 Australia;X-APPLE-RADIUS=500;X-TITLE=5 Lefroy St\, North Hobart:geo:147.3171049,-42.8721807
END:VEVENT
BEGIN:VEVENT
DTSTART;TZID=UTC+0:20180227T100000
DTEND;TZID=UTC+0:20180227T120000
DTSTAMP:20180226T075309
CREATED:20171107T202457Z
LAST-MODIFIED:20171107T202457Z
UID:7742-1519725600-1519732800@www.rivercitycc.com.au
SUMMARY:Cafe Church
DESCRIPTION:Come and celebrate our God mid week in this casual setting of Church in our Cafe.\n10am Tuesdays \n
URL:http://www.rivercitycc.com.au/event-test/cafe-church/2018-02-27/
LOCATION:5 Lefroy St\, North Hobart\, Hobart\, Tasmania\, 7001\, Australia
GEO:-42.8721807;147.3171049
X-APPLE-STRUCTURED-LOCATION;VALUE=URI;X-ADDRESS=5 Lefroy St North Hobart Hobart Tasmania 7001 Australia;X-APPLE-RADIUS=500;X-TITLE=5 Lefroy St\, North Hobart:geo:147.3171049,-42.8721807
END:VEVENT
END:VCALENDAR